BEGIN:VCALENDAR
VERSION:2.0
PRODID:-//L. M. Montgomery Literary Tour &amp; Montgomery 150 - ECPv6.3.3.1//NONSGML v1.0//EN
CALSCALE:GREGORIAN
METHOD:PUBLISH
X-ORIGINAL-URL:https://lmmontgomeryliterarytour.com
X-WR-CALDESC:Events for L. M. Montgomery Literary Tour &amp; Montgomery 150
REFRESH-INTERVAL;VALUE=DURATION:PT1H
X-Robots-Tag:noindex
X-PUBLISHED-TTL:PT1H
BEGIN:VTIMEZONE
TZID:UTC
BEGIN:STANDARD
TZOFFSETFROM:+0000
TZOFFSETTO:+0000
TZNAME:UTC
DTSTART:20240101T000000
END:STANDARD
END:VTIMEZONE
BEGIN:VEVENT
DTSTART;TZID=UTC:20240725T130000
DTEND;TZID=UTC:20240725T160000
DTSTAMP:20260422T091848
CREATED:20240629T103210Z
LAST-MODIFIED:20240629T103211Z
UID:10003998-1721912400-1721923200@lmmontgomeryliterarytour.com
SUMMARY:In the Time of Maud
DESCRIPTION:Spend an afternoon in the time of Lucy Maud Montgomery\, author of PEl’s beloved Anne of Green Gables\, in this unique immersive experience that celebrates her 150th birthday! Our costumed guide will lead you through the village\, connecting Orwell Corner’s authentic late-Victorian charms to Montgomery’s life and facilitating hands-on historic activities. Visit our adorable farm animals\, learn to waltz on the village green\, enjoy some afternoon tea\, and follow in Montgomery’s own footsteps by taking a wagon ride along a route she travelled in 1910! \nThis program is intended for adult audiences\, but children over 7 are allowed with supervision. Groups welcome. Costumes also welcome but not required! \nThursdays from 1pm-4pm\, July and August\, 2024.
URL:https://lmmontgomeryliterarytour.com/event/in-the-time-of-maud-4/
LOCATION:Orwell Corner Historic Village\, 98 Macphail Park Road\, Vernon\, PE\, Canada
CATEGORIES:Learning,Social
ATTACH;FMTTYPE=image/png:https://lmmontgomeryliterarytour.com/wp-content/uploads/2024/06/Orwell.png
END:VEVENT
BEGIN:VEVENT
DTSTART;TZID=UTC:20240721T133000
DTEND;TZID=UTC:20240721T163000
DTSTAMP:20260422T091849
CREATED:20240430T124146Z
LAST-MODIFIED:20240430T124147Z
UID:10003924-1721568600-1721579400@lmmontgomeryliterarytour.com
SUMMARY:24th Annual Strawberry Social
DESCRIPTION:Plan to attend the annual Strawberry Social to celebrate L.M. Montgomery’s 150th Birthday! Enjoy this delightful summer tradition against the backdrop of the Bideford Parsonage Museum. Indulge in the finest flavours of PEI with ADL ice cream served with the juiciest\, locally grown strawberries\, freshly baked\, homemade biscuits and ice cold Raspberry Cordial. A match made in culinary heaven.
URL:https://lmmontgomeryliterarytour.com/event/24th-annual-strawberry-social/
LOCATION:Bideford Parsonage Museum\, 784 Bideford Road\, Bideford\, Prince Edward Island\, C0B 1J0\, Canada
CATEGORIES:Social
ATTACH;FMTTYPE=image/png:https://lmmontgomeryliterarytour.com/wp-content/uploads/2024/04/Bideford-Ice-Cram-Social.png
END:VEVENT
BEGIN:VEVENT
DTSTART;TZID=UTC:20240721T130000
DTEND;TZID=UTC:20240721T150000
DTSTAMP:20260422T091849
CREATED:20240612T205646Z
LAST-MODIFIED:20240612T205646Z
UID:10003959-1721566800-1721574000@lmmontgomeryliterarytour.com
SUMMARY:L.M Montgomery Sweet Treat Social
DESCRIPTION:Plan to attend our sweet treat social to celebrate L.M. Montgomery’s 150th birthday!\nAs we gather around the “Spirit of Anne Statue”\nWe will enjoy  ice cold\, raspberry cordial\, and freshly baked homemade cookie made from  Aunt Maud’s recipe book.\nMeet Anne of Green Gables\, and dress up as in yourself in our dress up parlour. There were lots of great photo opportunities. Free dress up between 1-3 pm ( regular $4.00 per person)
URL:https://lmmontgomeryliterarytour.com/event/l-m-montgomery-sweet-treat-social/
LOCATION:Shop and Play\, 99 Abegweit Blvd.\, Borden-Carlton\, Prince Edward Island\, Canada
CATEGORIES:Social
ATTACH;FMTTYPE=image/jpeg:https://lmmontgomeryliterarytour.com/wp-content/uploads/2024/06/Shop-and-Play-scaled.jpg
END:VEVENT
BEGIN:VEVENT
DTSTART;TZID=UTC:20240718T130000
DTEND;TZID=UTC:20240718T160000
DTSTAMP:20260422T091849
CREATED:20240629T103054Z
LAST-MODIFIED:20240629T103055Z
UID:10003997-1721307600-1721318400@lmmontgomeryliterarytour.com
SUMMARY:In the Time of Maud
DESCRIPTION:Spend an afternoon in the time of Lucy Maud Montgomery\, author of PEl’s beloved Anne of Green Gables\, in this unique immersive experience that celebrates her 150th birthday! Our costumed guide will lead you through the village\, connecting Orwell Corner’s authentic late-Victorian charms to Montgomery’s life and facilitating hands-on historic activities. Visit our adorable farm animals\, learn to waltz on the village green\, enjoy some afternoon tea\, and follow in Montgomery’s own footsteps by taking a wagon ride along a route she travelled in 1910! \nThis program is intended for adult audiences\, but children over 7 are allowed with supervision. Groups welcome. Costumes also welcome but not required! \nThursdays from 1pm-4pm\, July and August\, 2024.
URL:https://lmmontgomeryliterarytour.com/event/in-the-time-of-maud-3/
LOCATION:Orwell Corner Historic Village\, 98 Macphail Park Road\, Vernon\, PE\, Canada
CATEGORIES:Learning,Social
ATTACH;FMTTYPE=image/png:https://lmmontgomeryliterarytour.com/wp-content/uploads/2024/06/Orwell.png
END:VEVENT
BEGIN:VEVENT
DTSTART;TZID=UTC:20240713T120000
DTEND;TZID=UTC:20240713T140000
DTSTAMP:20260422T091849
CREATED:20240613T104819Z
LAST-MODIFIED:20240613T104820Z
UID:10003969-1720872000-1720879200@lmmontgomeryliterarytour.com
SUMMARY:Sweet Serenades: A Lucy Maud Montgomery Ice Cream Social
DESCRIPTION:Celebrate the enduring legacy of Lucy Maud Montgomery in a truly magical setting at the Gardens of Hope of the PEI Preserve Company. Join us for a special Ice Cream Social honoring Montgomery’s 150th birthday\, where every moment is infused with the spirit of Anne Shirley and the enchanting world Lucy Maud Montgomery created. Indulge your senses with scoops of heavenly homemade ice cream\, adorned with an array of delectable toppings\, all while immersed in the breathtaking beauty of the River Clyde from our Gardens of Hope. As you savor each bite\, let the melodies from Members of the Singing Strings\, a local string quartet transport you back to Montgomery’s era\, evoking the nostalgia of simpler times. While the music fills the air\, you can immerse yourself in the festivities by engaging in a variety of our garden games or basking in the sunshine as you read your copy of one of Montgomery’s timeless tales\, allowing her captivating narratives to whisk you away. Event will be by donation in the gardens with no registration required
URL:https://lmmontgomeryliterarytour.com/event/sweet-serenades-a-lucy-maud-montgomery-ice-cream-social/
LOCATION:PEI Preserve Company\, 2841 New Glasgow Rd\, New Glasgow\, Prince Edward Island\, Canada
CATEGORIES:Social
ATTACH;FMTTYPE=image/jpeg:https://lmmontgomeryliterarytour.com/wp-content/uploads/2024/06/Gardens-of-Hope-scaled.jpg
END:VEVENT
BEGIN:VEVENT
DTSTART;TZID=UTC:20240711T130000
DTEND;TZID=UTC:20240711T160000
DTSTAMP:20260422T091849
CREATED:20240629T102915Z
LAST-MODIFIED:20240629T102916Z
UID:10003996-1720702800-1720713600@lmmontgomeryliterarytour.com
SUMMARY:In the Time of Maud
DESCRIPTION:Spend an afternoon in the time of Lucy Maud Montgomery\, author of PEl’s beloved Anne of Green Gables\, in this unique immersive experience that celebrates her 150th birthday! Our costumed guide will lead you through the village\, connecting Orwell Corner’s authentic late-Victorian charms to Montgomery’s life and facilitating hands-on historic activities. Visit our adorable farm animals\, learn to waltz on the village green\, enjoy some afternoon tea\, and follow in Montgomery’s own footsteps by taking a wagon ride along a route she travelled in 1910! \nThis program is intended for adult audiences\, but children over 7 are allowed with supervision. Groups welcome. Costumes also welcome but not required! \nThursdays from 1pm-4pm\, July and August\, 2024.
URL:https://lmmontgomeryliterarytour.com/event/in-the-time-of-maud-2/
LOCATION:Orwell Corner Historic Village\, 98 Macphail Park Road\, Vernon\, PE\, Canada
CATEGORIES:Learning,Social
ATTACH;FMTTYPE=image/png:https://lmmontgomeryliterarytour.com/wp-content/uploads/2024/06/Orwell.png
END:VEVENT
BEGIN:VEVENT
DTSTART;TZID=UTC:20240704T130000
DTEND;TZID=UTC:20240704T160000
DTSTAMP:20260422T091849
CREATED:20240629T102710Z
LAST-MODIFIED:20240629T102712Z
UID:10003995-1720098000-1720108800@lmmontgomeryliterarytour.com
SUMMARY:In the Time of Maud
DESCRIPTION:Spend an afternoon in the time of Lucy Maud Montgomery\, author of PEl’s beloved Anne of Green Gables\, in this unique immersive experience that celebrates her 150th birthday! Our costumed guide will lead you through the village\, connecting Orwell Corner’s authentic late-Victorian charms to Montgomery’s life and facilitating hands-on historic activities. Visit our adorable farm animals\, learn to waltz on the village green\, enjoy some afternoon tea\, and follow in Montgomery’s own footsteps by taking a wagon ride along a route she travelled in 1910! \nThis program is intended for adult audiences\, but children over 7 are allowed with supervision. Groups welcome. Costumes also welcome but not required! \nThursdays from 1pm-4pm\, July and August\, 2024.
URL:https://lmmontgomeryliterarytour.com/event/in-the-time-of-maud/
LOCATION:Orwell Corner Historic Village\, 98 Macphail Park Road\, Vernon\, PE\, Canada
CATEGORIES:Learning,Social
ATTACH;FMTTYPE=image/png:https://lmmontgomeryliterarytour.com/wp-content/uploads/2024/06/Orwell.png
END:VEVENT
BEGIN:VEVENT
DTSTART;TZID=UTC:20240703T140000
DTEND;TZID=UTC:20240927T153000
DTSTAMP:20260422T091849
CREATED:20240613T112307Z
LAST-MODIFIED:20240613T112308Z
UID:10003972-1720015200-1727451000@lmmontgomeryliterarytour.com
SUMMARY:For the Love of Maud – High Tea
DESCRIPTION:Montgomery enthusiasts are invited to enjoy a fancy Afternoon Tea while we retell the amusing stories connected to Lucy Maud Montgomery’s visit to the Sir Andrew Macphail Homestead in Orwell\, Eastern PEI. The Governor General at the time\, Earl Grey\, wished to meet the creator of the delightful “Anne of Green Gables”. \nDr. Andrew Macphail and Lucy Maud Montgomery were both Island authors. Montgomery was a dedicated journal keeper. The extracts from one of her journals will tell entertaining stories and her impressions of the people and place during her visit. Through her entries we get a glimpse of the woman writer and her sense of humour. Over tea discussions about her writing\, and her struggle to be taken seriously as a woman. \nMacphail\, a well-known writer and professor at McGill University\, Montreal\, was born and at the Homestead. \nWe invite you to enjoy a sumptuous Afternoon Tea while learning and talking about all things Maud. \nWednesday and Friday afternoons in July\, August and September from 2:00 – 3:30pm. Minimum 3 people maximum 15. Reservations essential. $35 per person. \n 
URL:https://lmmontgomeryliterarytour.com/event/for-the-love-of-maud-high-tea/
LOCATION:MacPhail Homestead\, 271 MacPhail Park road\, Orwell\, Prince Edward Island\, Canada
CATEGORIES:Learning,Social
ATTACH;FMTTYPE=image/jpeg:https://lmmontgomeryliterarytour.com/wp-content/uploads/2024/06/MacPhailHouseSummer.jpeg
END:VEVENT
BEGIN:VEVENT
DTSTART;TZID=UTC:20240701T090000
DTEND;TZID=UTC:20240902T170000
DTSTAMP:20260422T091849
CREATED:20240612T212859Z
LAST-MODIFIED:20240612T212900Z
UID:10003962-1719824400-1725296400@lmmontgomeryliterarytour.com
SUMMARY:Green Gables Heritage Place Summer Activity Schedule
DESCRIPTION:Whether you are captivated by Anne or want to get a little closer to the house’s finer details\, we offer engaging experiences to bring you even more intimately into the world of Anne of Green Gables and of beloved author L.M. Montgomery. \nFor questions about the schedule\, ask Green Gables staff or call ahead at 902-963-7874 or email greengables@pc.gc.ca.
URL:https://lmmontgomeryliterarytour.com/event/green-gables-heritage-place-summer-activity-schedule/
LOCATION:Green Gables Heritage Place\, 8619 Cavendish Rd\,\, Cavendish\, Prince Edward Island\, Canada
CATEGORIES:Learning,Social
ATTACH;FMTTYPE=image/jpeg:https://lmmontgomeryliterarytour.com/wp-content/uploads/2020/01/23566-1456507223.jpg
END:VEVENT
BEGIN:VEVENT
DTSTART;TZID=UTC:20240629T083000
DTEND;TZID=UTC:20240629T230000
DTSTAMP:20260422T091849
CREATED:20240622T174400Z
LAST-MODIFIED:20240625T124401Z
UID:10003990-1719649800-1719702000@lmmontgomeryliterarytour.com
SUMMARY:Raising her Voice: celebrating 150 years of L. M. Montgomery
DESCRIPTION:Let’s kick off the celebrations with a full day of activities to celebrate Montgomery with a walk through her favourite trails\, artists painting some beautiful Island scenes and an armful of talent entertaining us with their songs\, stories and music. \nStart off the day with Montgomery’s Secret Paths hike\, then watch artists from 10 to noon. \nThese events will be followed by: \nNoon to 1:30 : Caedda Enright Harpist and folk singer \n1:30 to 3:00 pm Graysen LaPointe and Rebeccah Brown from the cast of Anne & Gilbert \n3:00pm pm to 3:45pm Tunes and Tales\, children’s entertainment \n4:00 pm pm to 5:30 pm Matt Kinney and Allegra Wright from the cast of Anne & Gilbert \n6:00 to 7 pm Keziah Collie\, jazz singer \n7:30 pm to 9:00 pm Carrie Mclellan\, country \n9:00 pm Honey I’m Home\, a tribute to Shania Twain
URL:https://lmmontgomeryliterarytour.com/event/raising-her-voice-celebrating-150-years-of-l-m-montgomery/
LOCATION:Avonlea Village\, 8779 route 6\, Cavendish\, Prince Edward Island\, C0A1N0\, Canada
CATEGORIES:Culture,Social
ATTACH;FMTTYPE=image/jpeg:https://lmmontgomeryliterarytour.com/wp-content/uploads/2024/06/Raising-Her-Voice-.jpg
END:VEVENT
BEGIN:VEVENT
DTSTART;TZID=UTC:20240629T083000
DTEND;TZID=UTC:20240629T130000
DTSTAMP:20260422T091849
CREATED:20240613T190357Z
LAST-MODIFIED:20240613T190358Z
UID:10003985-1719649800-1719666000@lmmontgomeryliterarytour.com
SUMMARY:Montgomery's Secret Paths
DESCRIPTION:Join us for a pleasant 8.5 km hike through some of L. M. Montgomery’s favourite trails and locations. Food entertainment and little surprises will be part of your journey. \nYou will start your hike with a breakfast sandwich\, fruit\, coffee or tea at Samuel’s in Avonlea Village. Begin your walk through the gentle slopes of Cavendish Grove to the Dunelands Trail and Cavendish Beach. Then proceed to a flat terrain walk to Cavendish corner. Crossing the street\, tiptoe through the Haunted Wood and on to Montgomery Park where you can sit with Maud for a picture. You will be hosted by the Cordial Café for a nutritious blueberry scone and a comfort station stop. You can also refill your water bottle while at the Park. Take a few minutes to take a break and listen to the entertainment provided by the talented Olivia Blacquiere. \nFrom Montgomery Park\, walk towards the Site of L. M. Montgomery’s Home and back out to Cavendish corner. Then go down Hammie’s Lane and back through Cavendish Grove\, down Clark’s Lane to Avonlea Village for lunch. The location for the lunch is being provided by La Rose Bistro who will serve smoked salmon on parsnip latkes with chive crema and Lone Oak Beer Garden serving up mussels\, nachos and sweet potato fries. One free glass of wine or beer is included with your meal. \nRounding up the experience will be your chance to try a cone of Canada’s favourite ice cream from Cows. All this with some local entertainment! \nThis hike will give you a chance to discover the secret paths in the area and provides a multitude of photo opportunities. \nWhat you need: \n\nClosed toe shoes\, hiking boots\, or sneakers.\nCamera\nHat\nSunscreen\nLayers of clothing\nRain jacket\nBackpack\nWater bottle\n\nSchedule: \n\n8:30 am Registration\, breakfast and entertainment\n9:00 am Hike starts\nMidway point: Comfort station\, snack\, and entertainment\n12:00 until approx. 1:00 pm Hike ends\, lunch\, and entertainment
URL:https://lmmontgomeryliterarytour.com/event/montgomerys-secret-paths/
LOCATION:Avonlea Village\, 8779 route 6\, Cavendish\, Prince Edward Island\, C0A1N0\, Canada
CATEGORIES:Social
ATTACH;FMTTYPE=image/jpeg:https://lmmontgomeryliterarytour.com/wp-content/uploads/2024/06/53182651586_44c191736f_k.jpg
END:VEVENT
BEGIN:VEVENT
DTSTART;TZID=UTC:20240628T000000
DTEND;TZID=UTC:20240902T000000
DTSTAMP:20260422T091849
CREATED:20240628T190518Z
LAST-MODIFIED:20240628T190722Z
UID:10003992-1719532800-1725235200@lmmontgomeryliterarytour.com
SUMMARY:A Day in L.M. Montgomery's Classroom
DESCRIPTION:Location: Lower Bedeque Schoolhouse\, 950 Callbeck Street\, Bedeque \n” A Day in L.M. Montomgery’s Classroom” Educational Children’s tours. \nThis summer\, step back in time to 1897-1898 and spend a day in L.M. Montgomery’s classroom with our educational children’s tours! \n​For only $10 a person\, your group will receive a 90-minute tour that consists of a 19th century classroom re-enactment\, historic recess\, and a historic craft. \nThis tour is best suited for children aged 5-12. This tour would also be suitable as a birthday party. \nThese tours can be booked for any day: Call\, email\, or visit the museum to book. \nPrices:$10 per person \nMinimum group size: 5 \nMaximum group size: 15 \n 
URL:https://lmmontgomeryliterarytour.com/event/a-day-in-l-m-montgomerys-classroom/
LOCATION:Bedeque Museum\, 950 Callbeck St.\, Bedeque\, Prince Edward Island\, Canada
CATEGORIES:Learning,Social
ATTACH;FMTTYPE=image/jpeg:https://lmmontgomeryliterarytour.com/wp-content/uploads/2024/06/Bedeque-photo-scaled-e1718235257441.jpg
END:VEVENT
BEGIN:VEVENT
DTSTART;TZID=UTC:20240622T080000
DTEND;TZID=UTC:20240922T160000
DTSTAMP:20260422T091849
CREATED:20240622T043819Z
LAST-MODIFIED:20240622T043820Z
UID:10003987-1719043200-1727020800@lmmontgomeryliterarytour.com
SUMMARY:Pink Milk Matcha and Cat Cookies
DESCRIPTION:Inspired by the colors of Anne \, fusing Japanese Matcha tea with our PEI produced milk and strawberries.\n\nFeatured all summer long in Avonlea Village. 6.50 or 8.50 with the Signature LM Cat Cookie . Did you know L. M. Montgomery loved cats?
URL:https://lmmontgomeryliterarytour.com/event/pink-milk-matcha-and-cat-cookies/
LOCATION:Samuel’s at Avonlea Village\, 8779 route 6\, Cavendish\, Prince Edward Island\, Canada
CATEGORIES:Social
ATTACH;FMTTYPE=image/jpeg:https://lmmontgomeryliterarytour.com/wp-content/uploads/2024/06/Pink-Matcha.jpg
END:VEVENT
END:VCALENDAR