BEGIN:VCALENDAR
VERSION:2.0
PRODID:-//L. M. Montgomery Literary Tour &amp; Montgomery 150 - ECPv6.3.3.1//NONSGML v1.0//EN
CALSCALE:GREGORIAN
METHOD:PUBLISH
X-WR-CALNAME:L. M. Montgomery Literary Tour &amp; Montgomery 150
X-ORIGINAL-URL:https://lmmontgomeryliterarytour.com
X-WR-CALDESC:Events for L. M. Montgomery Literary Tour &amp; Montgomery 150
REFRESH-INTERVAL;VALUE=DURATION:PT1H
X-Robots-Tag:noindex
X-PUBLISHED-TTL:PT1H
BEGIN:VTIMEZONE
TZID:UTC
BEGIN:STANDARD
TZOFFSETFROM:+0000
TZOFFSETTO:+0000
TZNAME:UTC
DTSTART:20240101T000000
END:STANDARD
END:VTIMEZONE
BEGIN:VEVENT
DTSTART;TZID=UTC:20241201T100000
DTEND;TZID=UTC:20241201T153000
DTSTAMP:20260421T053228
CREATED:20241030T182955Z
LAST-MODIFIED:20241030T183146Z
UID:10004195-1733047200-1733067000@lmmontgomeryliterarytour.com
SUMMARY:A Green Gables Christmas - Celebrating Montgomery's 150th Birthday
DESCRIPTION:Families and friends are invited to the third annual Christmas event at Green Gables! It’s a wonderful opportunity to explore Anne’s house\, beautifully decorated for the holidays\, while enjoying a variety of fun activities together. \nThroughout the day\, guests will have the chance to meet Anne\, who will be greeting visitors and adding a special touch to the festivities! \nChildren can get creative by decorating Christmas cookies\, listening to cheerful carolers\, and capturing memories at the enchanting snow globe light display. There’s plenty of entertainment for everyone—kids will love the Tunes and Tall Tales read-and-sing holiday story\, along with a special performance by The Nest\, a multilingual children’s music studio\, happening on both Saturday and Sunday! \nAll attendees can indulge in yummy sweets and warm drinks provided throughout the event. And they won’t want to miss the chance to celebrate L.M. Montgomery’s 150th birthday with a festive birthday celebration and a fun guided group dance to cap off the day!
URL:https://lmmontgomeryliterarytour.com/event/a-green-gables-christmas-celebrating-montgomerys-150th-birthday/2024-12-01/
LOCATION:Green Gables Heritage Place\, 8619 Cavendish Rd\,\, Cavendish\, Prince Edward Island\, Canada
ATTACH;FMTTYPE=image/jpeg:https://lmmontgomeryliterarytour.com/wp-content/uploads/2024/10/53532330487_6bc1693b0a_k-1.jpg
END:VEVENT
BEGIN:VEVENT
DTSTART;TZID=UTC:20241130T100000
DTEND;TZID=UTC:20241130T153000
DTSTAMP:20260421T053228
CREATED:20241030T182955Z
LAST-MODIFIED:20241030T183146Z
UID:10004011-1732960800-1732980600@lmmontgomeryliterarytour.com
SUMMARY:A Green Gables Christmas - Celebrating Montgomery's 150th Birthday
DESCRIPTION:Families and friends are invited to the third annual Christmas event at Green Gables! It’s a wonderful opportunity to explore Anne’s house\, beautifully decorated for the holidays\, while enjoying a variety of fun activities together. \nThroughout the day\, guests will have the chance to meet Anne\, who will be greeting visitors and adding a special touch to the festivities! \nChildren can get creative by decorating Christmas cookies\, listening to cheerful carolers\, and capturing memories at the enchanting snow globe light display. There’s plenty of entertainment for everyone—kids will love the Tunes and Tall Tales read-and-sing holiday story\, along with a special performance by The Nest\, a multilingual children’s music studio\, happening on both Saturday and Sunday! \nAll attendees can indulge in yummy sweets and warm drinks provided throughout the event. And they won’t want to miss the chance to celebrate L.M. Montgomery’s 150th birthday with a festive birthday celebration and a fun guided group dance to cap off the day!
URL:https://lmmontgomeryliterarytour.com/event/a-green-gables-christmas-celebrating-montgomerys-150th-birthday/2024-11-30/
LOCATION:Green Gables Heritage Place\, 8619 Cavendish Rd\,\, Cavendish\, Prince Edward Island\, Canada
ATTACH;FMTTYPE=image/jpeg:https://lmmontgomeryliterarytour.com/wp-content/uploads/2024/10/53532330487_6bc1693b0a_k-1.jpg
END:VEVENT
END:VCALENDAR