BEGIN:VCALENDAR
VERSION:2.0
PRODID:-//L. M. Montgomery Literary Tour &amp; Montgomery 150 - ECPv6.3.3.1//NONSGML v1.0//EN
CALSCALE:GREGORIAN
METHOD:PUBLISH
X-ORIGINAL-URL:https://lmmontgomeryliterarytour.com
X-WR-CALDESC:Events for L. M. Montgomery Literary Tour &amp; Montgomery 150
REFRESH-INTERVAL;VALUE=DURATION:PT1H
X-Robots-Tag:noindex
X-PUBLISHED-TTL:PT1H
BEGIN:VTIMEZONE
TZID:UTC
BEGIN:STANDARD
TZOFFSETFROM:+0000
TZOFFSETTO:+0000
TZNAME:UTC
DTSTART:20240101T000000
END:STANDARD
END:VTIMEZONE
BEGIN:VEVENT
DTSTART;TZID=UTC:20241020T143000
DTEND;TZID=UTC:20241020T170000
DTSTAMP:20260421T155940
CREATED:20240917T163845Z
LAST-MODIFIED:20240917T164156Z
UID:10004008-1729434600-1729443600@lmmontgomeryliterarytour.com
SUMMARY:Barachois Inn Celebrates 150 Years of L.M. Montgomery
DESCRIPTION:The historic bed and breakfast in Rustico welcomes composer/pianist Leo Marchildon along with singers Rebekah Brown\, Julia Cerisano and James Ronahan as they present 2 Sunday afternoon “soirées” recalling the recitals of poetry and song held during Montgomery’s times\nand so vividly described in her Anne books. Music includes selections from the various musicals inspired by Montgomery’s writings\, including “Anne of Green Gables” \, “Anne & Gilbert” and “The Nine Lives of L.M. Montgomery”. \nIsland redhead Rebekah Brown has performed in Anne & Gilbert for 5 seasons now\, this past one playing Anne Shirley herself! Montreal born / Island raised soprano Julia Cerisano took on the role of Josie Pye in this year’s Anne & Gilbert following many years of\nstage experience. Island born baritone James Ronahan has been singing publicly for 13 years and is currently studying voice at UPEI. Performances start at 2:30 pm. High tea to follow. Due to limited seating\, tickets must be purchased in advance. Call (902)\n963-2194 or email sleep@barachoisinn.com for more information.
URL:https://lmmontgomeryliterarytour.com/event/barachois-inn-celebrates-150-years-of-l-m-montgomery/
LOCATION:Barachois Inn\, 2193 Church Rd\, Rustico\, Prince Edward Island\, C0A1X0\, Canada
CATEGORIES:Culture
ATTACH;FMTTYPE=image/png:https://lmmontgomeryliterarytour.com/wp-content/uploads/2024/09/Leo-Marchildon.png
END:VEVENT
BEGIN:VEVENT
DTSTART;TZID=UTC:20240901T143000
DTEND;TZID=UTC:20240901T170000
DTSTAMP:20260421T155940
CREATED:20240727T135121Z
LAST-MODIFIED:20240727T135122Z
UID:10004005-1725201000-1725210000@lmmontgomeryliterarytour.com
SUMMARY:Music and High Tea at the Barachois
DESCRIPTION:On select Sunday afternoons this summer\, the historic Barachois Inn in Rustico will be hosting special events commemorating the 150th Anniversary of L.M. Montgomery with a re-enactment of a social soirée similar to that described in Montgomery’s books. Soprano Olivia Barnes and tenor Sébastien Comtois team up with pianist Leo Marchildon in performing a program of music and poetry hailing back to the time of the famed author\, as well as selections from the various musicals her immortal “Anne of Green Gables” has inspired. A high tea will follow. Performances take place at 2:30 pm on August 25 and September 1. Tickets may be purchased directly at the Inn or by emailing sleep@barachoisinn.com
URL:https://lmmontgomeryliterarytour.com/event/music-and-high-tea-at-the-barachois-2/
LOCATION:Barachois Inn\, 2193 Church Rd\, Rustico\, Prince Edward Island\, C0A1X0\, Canada
CATEGORIES:Culture,Social
ATTACH;FMTTYPE=image/jpeg:https://lmmontgomeryliterarytour.com/wp-content/uploads/2024/07/Leo-Olivia-Sebastian.jpeg
END:VEVENT
BEGIN:VEVENT
DTSTART;TZID=UTC:20240825T143000
DTEND;TZID=UTC:20240825T170000
DTSTAMP:20260421T155940
CREATED:20240727T134650Z
LAST-MODIFIED:20240727T134653Z
UID:10004004-1724596200-1724605200@lmmontgomeryliterarytour.com
SUMMARY:Music and High Tea at the Barachois
DESCRIPTION:On select Sunday afternoons this summer\, the historic Barachois Inn in Rustico will be hosting special events commemorating the 150th Anniversary of L.M. Montgomery with a re-enactment of a social soirée similar to that described in Montgomery’s books. Soprano Olivia Barnes and tenor Sébastien Comtois team up with pianist Leo Marchildon in performing a program of music and poetry hailing back to the time of the famed author\, as well as selections from the various musicals her immortal “Anne of Green Gables” has inspired. A high tea will follow. Performances take place at 2:30 pm on August 25 and September 1. Tickets may be purchased directly at the Inn or by emailing sleep@barachoisinn.com
URL:https://lmmontgomeryliterarytour.com/event/music-and-high-tea-at-the-barachois/
LOCATION:Barachois Inn\, 2193 Church Rd\, Rustico\, Prince Edward Island\, C0A1X0\, Canada
CATEGORIES:Culture,Social
ATTACH;FMTTYPE=image/jpeg:https://lmmontgomeryliterarytour.com/wp-content/uploads/2024/07/Leo-Olivia-Sebastian.jpeg
END:VEVENT
END:VCALENDAR